BEGIN:VCALENDAR
VERSION:2.0
PRODID:-//Union Congregational Church - ECPv6.12.0//NONSGML v1.0//EN
CALSCALE:GREGORIAN
METHOD:PUBLISH
X-ORIGINAL-URL:https://www.unioncong.org
X-WR-CALDESC:Events for Union Congregational Church
REFRESH-INTERVAL;VALUE=DURATION:PT1H
X-Robots-Tag:noindex
X-PUBLISHED-TTL:PT1H
BEGIN:VTIMEZONE
TZID:America/New_York
BEGIN:DAYLIGHT
TZOFFSETFROM:-0500
TZOFFSETTO:-0400
TZNAME:EDT
DTSTART:20260308T070000
END:DAYLIGHT
BEGIN:STANDARD
TZOFFSETFROM:-0400
TZOFFSETTO:-0500
TZNAME:EST
DTSTART:20261101T060000
END:STANDARD
END:VTIMEZONE
BEGIN:VEVENT
DTSTART;TZID=America/New_York:20260206T143000
DTEND;TZID=America/New_York:20260206T170000
DTSTAMP:20260422T090435
CREATED:20250822T185413Z
LAST-MODIFIED:20260303T181524Z
UID:10003935-1770388200-1770397200@www.unioncong.org
SUMMARY:Side Door (Fellowship Hall)
DESCRIPTION:A place for middle schoolers\, side door is in session! The mission of the Side Door program is to offer a safe space where Montclair middle-school students can play on Friday afternoons\, make friends\, and be mentored by college students along side Montclair community leaders. 2:15pm-5pm Fridays (during the Montclair school year). For more information about Side Door\, please email BJ Carter
URL:https://www.unioncong.org/event/side-door-fellowship-hall-3/2026-02-06/
CATEGORIES:All Church Events,All Events,Children/Youth
END:VEVENT
BEGIN:VEVENT
DTSTART;TZID=America/New_York:20260206T150000
DTEND;TZID=America/New_York:20260206T180000
DTSTAMP:20260422T090435
CREATED:20260120T195114Z
LAST-MODIFIED:20260120T205544Z
UID:10003793-1770390000-1770400800@www.unioncong.org
SUMMARY:Youth Group Bowling and Pizza (Commonwealth Club/Union Cong)
DESCRIPTION:Bowling will take place at the Commonwealth Club\, followed by Pizza at the Church in the Sunday School Room.
URL:https://www.unioncong.org/event/youth-group-bowling-and-pizza-commonwealth-club-union-cong/
LOCATION:Commonwealth Club and Union Cong
CATEGORIES:All Church Events,All Events,Children/Youth,Featured Events
ORGANIZER;CN="UCC Youth Group":MAILTO:lmccullough@unioncong.org
END:VEVENT
END:VCALENDAR